Package: HiBED Version: 1.4.0 Command: /home/biocbuild/bbs-3.20-bioc/R/bin/R CMD INSTALL HiBED StartedAt: 2025-04-01 11:04:28 -0400 (Tue, 01 Apr 2025) EndedAt: 2025-04-01 11:05:10 -0400 (Tue, 01 Apr 2025) EllapsedTime: 42.0 seconds RetCode: 0 Status: OK