Package: HiCDataHumanIMR90 Version: 1.26.0 Command: /home/biocbuild/bbs-3.20-bioc/R/bin/R CMD build --keep-empty-dirs --no-resave-data HiCDataHumanIMR90 StartedAt: 2025-04-01 11:21:30 -0400 (Tue, 01 Apr 2025) EndedAt: 2025-04-01 11:22:20 -0400 (Tue, 01 Apr 2025) EllapsedTime: 49.8 seconds RetCode: 0 Status: OK PackageFile: HiCDataHumanIMR90_1.26.0.tar.gz PackageFileSize: 70.64 MiB