Package: HiContactsData Version: 1.8.0 Command: /home/biocbuild/bbs-3.20-bioc/R/bin/R CMD INSTALL HiContactsData StartedAt: 2025-04-01 10:57:00 -0400 (Tue, 01 Apr 2025) EndedAt: 2025-04-01 10:57:13 -0400 (Tue, 01 Apr 2025) EllapsedTime: 13.3 seconds RetCode: 0 Status: OK