Package: HighlyReplicatedRNASeq Version: 1.18.0 Command: /home/biocbuild/bbs-3.20-bioc/R/bin/R CMD build --keep-empty-dirs --no-resave-data HighlyReplicatedRNASeq StartedAt: 2025-04-01 11:21:55 -0400 (Tue, 01 Apr 2025) EndedAt: 2025-04-01 11:22:52 -0400 (Tue, 01 Apr 2025) EllapsedTime: 57.4 seconds RetCode: 0 Status: OK PackageFile: HighlyReplicatedRNASeq_1.18.0.tar.gz PackageFileSize: 468.5 KiB