Package: HighlyReplicatedRNASeq Version: 1.18.0 Command: /home/biocbuild/bbs-3.20-bioc/R/bin/R CMD INSTALL HighlyReplicatedRNASeq StartedAt: 2025-04-01 11:00:53 -0400 (Tue, 01 Apr 2025) EndedAt: 2025-04-01 11:01:18 -0400 (Tue, 01 Apr 2025) EllapsedTime: 25.0 seconds RetCode: 0 Status: OK