Package: Hiiragi2013 Version: 1.42.0 Command: /home/biocbuild/bbs-3.20-bioc/R/bin/R CMD INSTALL Hiiragi2013 StartedAt: 2025-04-01 10:57:25 -0400 (Tue, 01 Apr 2025) EndedAt: 2025-04-01 10:57:43 -0400 (Tue, 01 Apr 2025) EllapsedTime: 17.7 seconds RetCode: 0 Status: OK