Package: IlluminaDataTestFiles Version: 1.44.0 Command: /home/biocbuild/bbs-3.20-bioc/R/bin/R CMD build --keep-empty-dirs --no-resave-data IlluminaDataTestFiles StartedAt: 2025-04-01 11:22:53 -0400 (Tue, 01 Apr 2025) EndedAt: 2025-04-01 11:22:56 -0400 (Tue, 01 Apr 2025) EllapsedTime: 3.3 seconds RetCode: 0 Status: OK PackageFile: IlluminaDataTestFiles_1.44.0.tar.gz PackageFileSize: 23.69 MiB