Package: JASPAR2016 Version: 1.34.0 Command: /home/biocbuild/bbs-3.20-bioc/R/bin/R CMD INSTALL JASPAR2016 StartedAt: 2025-04-01 10:55:55 -0400 (Tue, 01 Apr 2025) EndedAt: 2025-04-01 10:56:00 -0400 (Tue, 01 Apr 2025) EllapsedTime: 5.1 seconds RetCode: 0 Status: OK