Package: LegATo Version: 1.0.0 Command: /home/biocbuild/bbs-3.20-bioc/R/bin/R CMD build --keep-empty-dirs --no-resave-data LegATo StartedAt: 2025-04-01 11:23:43 -0400 (Tue, 01 Apr 2025) EndedAt: 2025-04-01 11:25:09 -0400 (Tue, 01 Apr 2025) EllapsedTime: 86.2 seconds RetCode: 0 Status: OK PackageFile: LegATo_1.0.0.tar.gz PackageFileSize: 1.115 MiB