Package: LegATo Version: 1.0.0 Command: /home/biocbuild/bbs-3.20-bioc/R/bin/R CMD INSTALL LegATo StartedAt: 2025-04-01 11:04:51 -0400 (Tue, 01 Apr 2025) EndedAt: 2025-04-01 11:05:13 -0400 (Tue, 01 Apr 2025) EllapsedTime: 21.5 seconds RetCode: 0 Status: OK