Package: LiebermanAidenHiC2009 Version: 0.44.0 Command: /home/biocbuild/bbs-3.20-bioc/R/bin/R CMD build --keep-empty-dirs --no-resave-data LiebermanAidenHiC2009 StartedAt: 2025-04-01 11:23:46 -0400 (Tue, 01 Apr 2025) EndedAt: 2025-04-01 11:24:57 -0400 (Tue, 01 Apr 2025) EllapsedTime: 70.8 seconds RetCode: 0 Status: OK PackageFile: LiebermanAidenHiC2009_0.44.0.tar.gz PackageFileSize: 10.38 MiB