Package: LungCancerACvsSCCGEO Version: 1.42.0 Command: /home/biocbuild/bbs-3.20-bioc/R/bin/R CMD build --keep-empty-dirs --no-resave-data LungCancerACvsSCCGEO StartedAt: 2025-04-01 11:24:12 -0400 (Tue, 01 Apr 2025) EndedAt: 2025-04-01 11:27:41 -0400 (Tue, 01 Apr 2025) EllapsedTime: 208.7 seconds RetCode: 0 Status: OK PackageFile: LungCancerACvsSCCGEO_1.42.0.tar.gz PackageFileSize: 138.6 MiB