Package: M3DExampleData Version: 1.32.0 Command: /home/biocbuild/bbs-3.20-bioc/R/bin/R CMD check --install=check:M3DExampleData.install-out.txt --library=/home/biocbuild/bbs-3.20-bioc/R/site-library --timings M3DExampleData_1.32.0.tar.gz StartedAt: 2025-04-01 12:15:11 -0400 (Tue, 01 Apr 2025) EndedAt: 2025-04-01 12:15:21 -0400 (Tue, 01 Apr 2025) EllapsedTime: 10.3 seconds RetCode: 0 Status: WARNINGS CheckDir: M3DExampleData.Rcheck Warnings: 1