Package: MSMB Version: 1.24.0 Command: /home/biocbuild/bbs-3.20-bioc/R/bin/R CMD build --keep-empty-dirs --no-resave-data MSMB StartedAt: 2025-04-01 11:27:40 -0400 (Tue, 01 Apr 2025) EndedAt: 2025-04-01 11:27:48 -0400 (Tue, 01 Apr 2025) EllapsedTime: 7.6 seconds RetCode: 0 Status: OK PackageFile: MSMB_1.24.0.tar.gz PackageFileSize: 5.05 MiB