Package: MetaScope Version: 1.6.0 Command: /home/biocbuild/bbs-3.20-bioc/R/bin/R CMD build --keep-empty-dirs --no-resave-data MetaScope StartedAt: 2025-04-01 11:26:08 -0400 (Tue, 01 Apr 2025) EndedAt: 2025-04-01 11:26:24 -0400 (Tue, 01 Apr 2025) EllapsedTime: 16.4 seconds RetCode: 1 Status: ERROR PackageFile: None PackageFileSize: NA