Package: MethylSeqData Version: 1.16.0 Command: /home/biocbuild/bbs-3.20-bioc/R/bin/R CMD build --keep-empty-dirs --no-resave-data MethylSeqData StartedAt: 2025-04-01 11:26:25 -0400 (Tue, 01 Apr 2025) EndedAt: 2025-04-01 11:27:17 -0400 (Tue, 01 Apr 2025) EllapsedTime: 52.2 seconds RetCode: 0 Status: OK PackageFile: MethylSeqData_1.16.0.tar.gz PackageFileSize: 227 KiB