Package: MouseAgingData Version: 1.2.0 Command: /home/biocbuild/bbs-3.20-bioc/R/bin/R CMD build --keep-empty-dirs --no-resave-data MouseAgingData StartedAt: 2025-04-01 11:27:19 -0400 (Tue, 01 Apr 2025) EndedAt: 2025-04-01 11:28:25 -0400 (Tue, 01 Apr 2025) EllapsedTime: 66.3 seconds RetCode: 0 Status: OK PackageFile: MouseAgingData_1.2.0.tar.gz PackageFileSize: 1.343 MiB