Package: Neve2006 Version: 0.44.0 Command: /home/biocbuild/bbs-3.20-bioc/R/bin/R CMD build --keep-empty-dirs --no-resave-data Neve2006 StartedAt: 2025-04-01 11:28:38 -0400 (Tue, 01 Apr 2025) EndedAt: 2025-04-01 11:29:08 -0400 (Tue, 01 Apr 2025) EllapsedTime: 29.8 seconds RetCode: 0 Status: OK PackageFile: Neve2006_0.44.0.tar.gz PackageFileSize: 67.92 MiB