Package: Neve2006 Version: 0.44.0 Command: /home/biocbuild/bbs-3.20-bioc/R/bin/R CMD INSTALL Neve2006 StartedAt: 2025-04-01 10:57:24 -0400 (Tue, 01 Apr 2025) EndedAt: 2025-04-01 10:57:40 -0400 (Tue, 01 Apr 2025) EllapsedTime: 15.9 seconds RetCode: 0 Status: OK