Package: ObMiTi Version: 1.14.0 Command: /home/biocbuild/bbs-3.20-bioc/R/bin/R CMD build --keep-empty-dirs --no-resave-data ObMiTi StartedAt: 2025-04-01 11:29:04 -0400 (Tue, 01 Apr 2025) EndedAt: 2025-04-01 11:29:42 -0400 (Tue, 01 Apr 2025) EllapsedTime: 38.5 seconds RetCode: 0 Status: OK PackageFile: ObMiTi_1.14.0.tar.gz PackageFileSize: 46.9 KiB