Package: QDNAseq.hg19 Version: 1.36.0 Command: /home/biocbuild/bbs-3.20-bioc/R/bin/R CMD INSTALL QDNAseq.hg19 StartedAt: 2025-04-01 11:03:18 -0400 (Tue, 01 Apr 2025) EndedAt: 2025-04-01 11:03:31 -0400 (Tue, 01 Apr 2025) EllapsedTime: 13.1 seconds RetCode: 0 Status: OK