Package: RTCGA.PANCAN12 Version: 1.34.0 Command: /home/biocbuild/bbs-3.20-bioc/R/bin/R CMD build --keep-empty-dirs --no-resave-data RTCGA.PANCAN12 StartedAt: 2025-04-01 11:33:48 -0400 (Tue, 01 Apr 2025) EndedAt: 2025-04-01 11:34:11 -0400 (Tue, 01 Apr 2025) EllapsedTime: 23.7 seconds RetCode: 0 Status: OK PackageFile: RTCGA.PANCAN12_1.34.0.tar.gz PackageFileSize: 213.9 MiB