Package: RTCGA.clinical Version: 20151101.36.0 Command: /home/biocbuild/bbs-3.20-bioc/R/bin/R CMD build --keep-empty-dirs --no-resave-data RTCGA.clinical StartedAt: 2025-04-01 11:33:08 -0400 (Tue, 01 Apr 2025) EndedAt: 2025-04-01 11:33:53 -0400 (Tue, 01 Apr 2025) EllapsedTime: 44.5 seconds RetCode: 0 Status: OK PackageFile: RTCGA.clinical_20151101.36.0.tar.gz PackageFileSize: 13.97 MiB