Package: RTCGA.clinical Version: 20151101.36.0 Command: /home/biocbuild/bbs-3.20-bioc/R/bin/R CMD INSTALL RTCGA.clinical StartedAt: 2025-04-01 10:57:58 -0400 (Tue, 01 Apr 2025) EndedAt: 2025-04-01 10:58:39 -0400 (Tue, 01 Apr 2025) EllapsedTime: 41.7 seconds RetCode: 0 Status: OK