Package: RTCGA.mRNA Version: 1.34.0 Command: /home/biocbuild/bbs-3.20-bioc/R/bin/R CMD INSTALL RTCGA.mRNA StartedAt: 2025-04-01 10:57:58 -0400 (Tue, 01 Apr 2025) EndedAt: 2025-04-01 10:58:29 -0400 (Tue, 01 Apr 2025) EllapsedTime: 31.4 seconds RetCode: 0 Status: OK