Package: RTCGA.miRNASeq Version: 1.34.0 Command: /home/biocbuild/bbs-3.20-bioc/R/bin/R CMD build --keep-empty-dirs --no-resave-data RTCGA.miRNASeq StartedAt: 2025-04-01 11:33:23 -0400 (Tue, 01 Apr 2025) EndedAt: 2025-04-01 11:35:17 -0400 (Tue, 01 Apr 2025) EllapsedTime: 113.8 seconds RetCode: 0 Status: OK PackageFile: RTCGA.miRNASeq_1.34.0.tar.gz PackageFileSize: 45.24 MiB