Package: RnBeads.hg19 Version: 1.38.0 Command: /home/biocbuild/bbs-3.20-bioc/R/bin/R CMD build --keep-empty-dirs --no-resave-data RnBeads.hg19 StartedAt: 2025-04-01 11:32:52 -0400 (Tue, 01 Apr 2025) EndedAt: 2025-04-01 11:32:59 -0400 (Tue, 01 Apr 2025) EllapsedTime: 6.6 seconds RetCode: 0 Status: OK PackageFile: RnBeads.hg19_1.38.0.tar.gz PackageFileSize: 100.1 MiB