Package: RnBeads.hg38 Version: 1.38.1 Command: /home/biocbuild/bbs-3.20-bioc/R/bin/R CMD build --keep-empty-dirs --no-resave-data RnBeads.hg38 StartedAt: 2025-04-01 11:32:55 -0400 (Tue, 01 Apr 2025) EndedAt: 2025-04-01 11:33:07 -0400 (Tue, 01 Apr 2025) EllapsedTime: 12.9 seconds RetCode: 0 Status: OK PackageFile: RnBeads.hg38_1.38.1.tar.gz PackageFileSize: 167.4 MiB