Package: RnBeads.mm9 Version: 1.38.0 Command: /home/biocbuild/bbs-3.20-bioc/R/bin/R CMD INSTALL RnBeads.mm9 StartedAt: 2025-04-01 10:58:28 -0400 (Tue, 01 Apr 2025) EndedAt: 2025-04-01 10:58:37 -0400 (Tue, 01 Apr 2025) EllapsedTime: 8.7 seconds RetCode: 0 Status: OK