Package: Single.mTEC.Transcriptomes Version: 1.34.0 Command: /home/biocbuild/bbs-3.20-bioc/R/bin/R CMD INSTALL Single.mTEC.Transcriptomes StartedAt: 2025-04-01 10:55:47 -0400 (Tue, 01 Apr 2025) EndedAt: 2025-04-01 10:55:50 -0400 (Tue, 01 Apr 2025) EllapsedTime: 2.7 seconds RetCode: 0 Status: OK