Package: SomaticCancerAlterations Version: 1.42.0 Command: /home/biocbuild/bbs-3.20-bioc/R/bin/R CMD INSTALL SomaticCancerAlterations StartedAt: 2025-04-01 10:58:06 -0400 (Tue, 01 Apr 2025) EndedAt: 2025-04-01 10:58:13 -0400 (Tue, 01 Apr 2025) EllapsedTime: 7.3 seconds RetCode: 0 Status: OK