Package: SpikeIn Version: 1.48.0 Command: /home/biocbuild/bbs-3.20-bioc/R/bin/R CMD build --keep-empty-dirs --no-resave-data SpikeIn StartedAt: 2025-04-01 11:36:57 -0400 (Tue, 01 Apr 2025) EndedAt: 2025-04-01 11:37:10 -0400 (Tue, 01 Apr 2025) EllapsedTime: 12.5 seconds RetCode: 0 Status: OK PackageFile: SpikeIn_1.48.0.tar.gz PackageFileSize: 63.05 MiB