Package: TCGAMethylation450k Version: 1.42.0 Command: /home/biocbuild/bbs-3.20-bioc/R/bin/R CMD build --keep-empty-dirs --no-resave-data TCGAMethylation450k StartedAt: 2025-04-01 11:38:22 -0400 (Tue, 01 Apr 2025) EndedAt: 2025-04-01 11:38:42 -0400 (Tue, 01 Apr 2025) EllapsedTime: 19.9 seconds RetCode: 0 Status: OK PackageFile: TCGAMethylation450k_1.42.0.tar.gz PackageFileSize: 81.02 MiB