Package: TENxBUSData Version: 1.20.0 Command: /home/biocbuild/bbs-3.20-bioc/R/bin/R CMD build --keep-empty-dirs --no-resave-data TENxBUSData StartedAt: 2025-04-01 11:38:31 -0400 (Tue, 01 Apr 2025) EndedAt: 2025-04-01 11:38:59 -0400 (Tue, 01 Apr 2025) EllapsedTime: 27.7 seconds RetCode: 0 Status: OK PackageFile: TENxBUSData_1.20.0.tar.gz PackageFileSize: 221.3 KiB