Package: TENxVisiumData Version: 1.14.0 Command: /home/biocbuild/bbs-3.20-bioc/R/bin/R CMD INSTALL TENxVisiumData StartedAt: 2025-04-01 10:59:33 -0400 (Tue, 01 Apr 2025) EndedAt: 2025-04-01 11:00:03 -0400 (Tue, 01 Apr 2025) EllapsedTime: 30.3 seconds RetCode: 0 Status: OK