Package: TENxXeniumData Version: 1.2.0 Command: /home/biocbuild/bbs-3.20-bioc/R/bin/R CMD build --keep-empty-dirs --no-resave-data TENxXeniumData StartedAt: 2025-04-01 11:38:43 -0400 (Tue, 01 Apr 2025) EndedAt: 2025-04-01 11:41:17 -0400 (Tue, 01 Apr 2025) EllapsedTime: 154.0 seconds RetCode: 0 Status: OK PackageFile: TENxXeniumData_1.2.0.tar.gz PackageFileSize: 224.9 KiB