Package: TENxXeniumData Version: 1.2.0 Command: /home/biocbuild/bbs-3.20-bioc/R/bin/R CMD INSTALL TENxXeniumData StartedAt: 2025-04-01 11:03:50 -0400 (Tue, 01 Apr 2025) EndedAt: 2025-04-01 11:04:45 -0400 (Tue, 01 Apr 2025) EllapsedTime: 54.7 seconds RetCode: 0 Status: OK