Package: TMExplorer Version: 1.16.0 Command: /home/biocbuild/bbs-3.20-bioc/R/bin/R CMD build --keep-empty-dirs --no-resave-data TMExplorer StartedAt: 2025-04-01 11:39:20 -0400 (Tue, 01 Apr 2025) EndedAt: 2025-04-01 11:40:03 -0400 (Tue, 01 Apr 2025) EllapsedTime: 42.4 seconds RetCode: 0 Status: OK PackageFile: TMExplorer_1.16.0.tar.gz PackageFileSize: 233 KiB