Package: WGSmapp Version: 1.18.0 Command: /home/biocbuild/bbs-3.20-bioc/R/bin/R CMD INSTALL WGSmapp StartedAt: 2025-04-01 10:58:12 -0400 (Tue, 01 Apr 2025) EndedAt: 2025-04-01 10:58:56 -0400 (Tue, 01 Apr 2025) EllapsedTime: 44.1 seconds RetCode: 0 Status: OK