Package: adductData Version: 1.22.0 Command: /home/biocbuild/bbs-3.20-bioc/R/bin/R CMD build --keep-empty-dirs --no-resave-data adductData StartedAt: 2025-04-01 11:05:48 -0400 (Tue, 01 Apr 2025) EndedAt: 2025-04-01 11:05:59 -0400 (Tue, 01 Apr 2025) EllapsedTime: 10.4 seconds RetCode: 0 Status: OK PackageFile: adductData_1.22.0.tar.gz PackageFileSize: 7.581 KiB