Package: beadarrayExampleData Version: 1.44.0 Command: /home/biocbuild/bbs-3.20-bioc/R/bin/R CMD check --install=check:beadarrayExampleData.install-out.txt --library=/home/biocbuild/bbs-3.20-bioc/R/site-library --timings beadarrayExampleData_1.44.0.tar.gz StartedAt: 2025-04-01 11:43:22 -0400 (Tue, 01 Apr 2025) EndedAt: 2025-04-01 11:44:50 -0400 (Tue, 01 Apr 2025) EllapsedTime: 87.9 seconds RetCode: 0 Status: OK CheckDir: beadarrayExampleData.Rcheck Warnings: 0