Package: benchmarkfdrData2019 Version: 1.20.0 Command: /home/biocbuild/bbs-3.20-bioc/R/bin/R CMD build --keep-empty-dirs --no-resave-data benchmarkfdrData2019 StartedAt: 2025-04-01 11:06:10 -0400 (Tue, 01 Apr 2025) EndedAt: 2025-04-01 11:07:13 -0400 (Tue, 01 Apr 2025) EllapsedTime: 62.8 seconds RetCode: 0 Status: OK PackageFile: benchmarkfdrData2019_1.20.0.tar.gz PackageFileSize: 819.8 KiB