Package: benchmarkfdrData2019 Version: 1.20.0 Command: /home/biocbuild/bbs-3.20-bioc/R/bin/R CMD INSTALL benchmarkfdrData2019 StartedAt: 2025-04-01 11:03:29 -0400 (Tue, 01 Apr 2025) EndedAt: 2025-04-01 11:03:53 -0400 (Tue, 01 Apr 2025) EllapsedTime: 24.2 seconds RetCode: 0 Status: OK