Package: celldex Version: 1.16.0 Command: /home/biocbuild/bbs-3.20-bioc/R/bin/R CMD build --keep-empty-dirs --no-resave-data celldex StartedAt: 2025-04-01 11:07:14 -0400 (Tue, 01 Apr 2025) EndedAt: 2025-04-01 11:08:01 -0400 (Tue, 01 Apr 2025) EllapsedTime: 47.1 seconds RetCode: 0 Status: OK PackageFile: celldex_1.16.0.tar.gz PackageFileSize: 402.6 KiB