Package: celldex Version: 1.16.0 Command: /home/biocbuild/bbs-3.20-bioc/R/bin/R CMD INSTALL celldex StartedAt: 2025-04-01 11:03:39 -0400 (Tue, 01 Apr 2025) EndedAt: 2025-04-01 11:04:09 -0400 (Tue, 01 Apr 2025) EllapsedTime: 30.2 seconds RetCode: 0 Status: OK