Package: chipseqDBData Version: 1.22.0 Command: /home/biocbuild/bbs-3.20-bioc/R/bin/R CMD build --keep-empty-dirs --no-resave-data chipseqDBData StartedAt: 2025-04-01 11:08:10 -0400 (Tue, 01 Apr 2025) EndedAt: 2025-04-01 11:09:23 -0400 (Tue, 01 Apr 2025) EllapsedTime: 72.4 seconds RetCode: 0 Status: OK PackageFile: chipseqDBData_1.22.0.tar.gz PackageFileSize: 300.9 KiB