Package: chipseqDBData Version: 1.22.0 Command: /home/biocbuild/bbs-3.20-bioc/R/bin/R CMD INSTALL chipseqDBData StartedAt: 2025-04-01 11:01:24 -0400 (Tue, 01 Apr 2025) EndedAt: 2025-04-01 11:01:40 -0400 (Tue, 01 Apr 2025) EllapsedTime: 16.0 seconds RetCode: 0 Status: OK