Package: crisprScoreData Version: 1.10.0 Command: /home/biocbuild/bbs-3.20-bioc/R/bin/R CMD build --keep-empty-dirs --no-resave-data crisprScoreData StartedAt: 2025-04-01 11:09:50 -0400 (Tue, 01 Apr 2025) EndedAt: 2025-04-01 11:10:26 -0400 (Tue, 01 Apr 2025) EllapsedTime: 35.7 seconds RetCode: 0 Status: OK PackageFile: crisprScoreData_1.10.0.tar.gz PackageFileSize: 6.089 MiB