Package: crisprScoreData Version: 1.10.0 Command: /home/biocbuild/bbs-3.20-bioc/R/bin/R CMD INSTALL crisprScoreData StartedAt: 2025-04-01 10:57:35 -0400 (Tue, 01 Apr 2025) EndedAt: 2025-04-01 10:57:48 -0400 (Tue, 01 Apr 2025) EllapsedTime: 13.4 seconds RetCode: 0 Status: OK