Package: curatedAdipoChIP Version: 1.22.0 Command: /home/biocbuild/bbs-3.20-bioc/R/bin/R CMD build --keep-empty-dirs --no-resave-data curatedAdipoChIP StartedAt: 2025-04-01 11:09:59 -0400 (Tue, 01 Apr 2025) EndedAt: 2025-04-01 11:11:49 -0400 (Tue, 01 Apr 2025) EllapsedTime: 110.3 seconds RetCode: 0 Status: OK PackageFile: curatedAdipoChIP_1.22.0.tar.gz PackageFileSize: 140.9 KiB